BEGIN:VCALENDAR
VERSION:2.0
PRODID:icalendar-ruby
CALSCALE:GREGORIAN
METHOD:PUBLISH
BEGIN:VEVENT
DTSTAMP:20260424T202211Z
UID:10-3534075@ffwbnlr.org
DTSTART:20261102T000000Z
DTEND:20261102T010000Z
CLASS:PUBLIC
CREATED:20260424T141903
DESCRIPTION:Evening Worship
LAST-MODIFIED:20260424T141903
LOCATION:
SUMMARY:Evening Worship
URL;VALUE=URI:https://www.ffwbnlr.org/events/evening-worship/2026-11-01
END:VEVENT
END:VCALENDAR
