BEGIN:VCALENDAR
VERSION:2.0
PRODID:icalendar-ruby
CALSCALE:GREGORIAN
METHOD:PUBLISH
BEGIN:VEVENT
DTSTAMP:20260424T183617Z
UID:10-3532343@ffwbnlr.org
DTSTART:20261025T230000Z
DTEND:20261026T000000Z
CLASS:PUBLIC
CREATED:20260424T113307
DESCRIPTION:Evening Worship
LAST-MODIFIED:20260424T113307
LOCATION:
SUMMARY:Evening Worship
URL;VALUE=URI:https://www.ffwbnlr.org/events/evening-worship/2026-10-25
END:VEVENT
END:VCALENDAR
