BEGIN:VCALENDAR
VERSION:2.0
PRODID:icalendar-ruby
CALSCALE:GREGORIAN
METHOD:PUBLISH
BEGIN:VEVENT
DTSTAMP:20260424T152712Z
UID:10-3530610@ffwbnlr.org
DTSTART:20261011T230000Z
DTEND:20261012T000000Z
CLASS:PUBLIC
CREATED:20260424T084228
DESCRIPTION:Evening Worship
LAST-MODIFIED:20260424T084228
LOCATION:
SUMMARY:Evening Worship
URL;VALUE=URI:https://www.ffwbnlr.org/events/evening-worship/2026-10-11
END:VEVENT
END:VCALENDAR
