BEGIN:VCALENDAR
VERSION:2.0
PRODID:icalendar-ruby
CALSCALE:GREGORIAN
METHOD:PUBLISH
BEGIN:VEVENT
DTSTAMP:20260424T114919Z
UID:10-3528877@ffwbnlr.org
DTSTART:20260927T230000Z
DTEND:20260928T000000Z
CLASS:PUBLIC
CREATED:20260424T054758
DESCRIPTION:Evening Worship
LAST-MODIFIED:20260424T054758
LOCATION:
SUMMARY:Evening Worship
URL;VALUE=URI:https://www.ffwbnlr.org/events/evening-worship/2026-09-27
END:VEVENT
END:VCALENDAR
