BEGIN:VCALENDAR
VERSION:2.0
PRODID:icalendar-ruby
CALSCALE:GREGORIAN
METHOD:PUBLISH
BEGIN:VEVENT
DTSTAMP:20260424T101639Z
UID:10-3527145@ffwbnlr.org
DTSTART:20260920T230000Z
DTEND:20260921T000000Z
CLASS:PUBLIC
CREATED:20260423T202019
DESCRIPTION:Evening Worship
LAST-MODIFIED:20260423T202019
LOCATION:
SUMMARY:Evening Worship
URL;VALUE=URI:https://www.ffwbnlr.org/events/evening-worship/2026-09-20
END:VEVENT
END:VCALENDAR
