BEGIN:VCALENDAR
VERSION:2.0
PRODID:icalendar-ruby
CALSCALE:GREGORIAN
METHOD:PUBLISH
BEGIN:VEVENT
DTSTAMP:20260421T092942Z
UID:189-3439398@ffwbnlr.org
DTSTART:20260425T143500Z
DTEND:20260425T220000Z
CLASS:PUBLIC
CREATED:20260415T132816
DESCRIPTION:
LAST-MODIFIED:20260415T132816
LOCATION:
SUMMARY:Arkansas State Youth Expo
URL;VALUE=URI:https://www.ffwbnlr.org/events/arkansas-state-youth-expo--189
 /2026-04-25
ATTACH;FILENAME=Unknown-48.jpeg;FMTTYPE=image/jpeg:https://dq5pwpg1q8ru0.cl
 oudfront.net/2026/04/15/18/28/16/713fa2a0-9f1e-42c4-a61b-7949c11991af/Unkn
 own-48.jpeg
END:VEVENT
END:VCALENDAR
