BEGIN:VCALENDAR
VERSION:2.0
PRODID:icalendar-ruby
CALSCALE:GREGORIAN
METHOD:PUBLISH
BEGIN:VEVENT
DTSTAMP:20260421T162507Z
UID:190-3501534@ffwbnlr.org
DTSTART:20261007T160000Z
DTEND:20261007T170000Z
CLASS:PUBLIC
CREATED:20260421T105530
DESCRIPTION:
LAST-MODIFIED:20260421T105530
LOCATION:Choir Rehearsal Suite
SUMMARY:Adult Bible Study
URL;VALUE=URI:https://www.ffwbnlr.org/events/adult-bible-study/2026-10-07
ATTACH;FILENAME=image.jpg;FMTTYPE=image/jpeg:https://dq5pwpg1q8ru0.cloudfro
 nt.net/2026/04/15/18/35/46/5fee90ca-7b13-4cfa-9179-e1f032aeb1af/image.jpg
END:VEVENT
END:VCALENDAR
